BEGIN:VCALENDAR
VERSION:2.0
PRODID:-//ExpressionEngine Easy iCalendar plugin//NONSGML v2.0.0//EN
X-WR-TIMEZONE:America/Chicago
X-WR-CALNAME:Upcoming Auctions
BEGIN:VEVENT
UID:100006
DTSTAMP:20230427T100100
DTSTART:20230427T100100
DTEND:20230504T183000
SUMMARY:Collectibles & Household
LOCATION:169 E Vienna St.\, Anna\, IL 62906\, US
DESCRIPTION:Collectibles\, Household & More    Online Only Auction 169 
 E Vienna St. Anna\, IL 62906 Begins to End May 4\, 2023 Thursd
 ay 6:30 pm PREVIEW will be May 4\, 2023 Thursday 2:00 pm to 5
 :00 pm Pick Up will be May 5\, 2023 Friday from 10:00 am to 5
 :30 pm  15% Buyers Premium  Seller: James Dillow Joe Ollis
  Auction Service\, LLC IL Lic # 444.000380  400 New Hope Roa
 d Buncombe\, IL 62912  Information Herein Believed to Be Acc
 urate but Not Warranted
URL:https://ollisauction.bwpreview.com/auctions/detail/bw100006
SEQUENCE:1
END:VEVENT
END:VCALENDAR