BEGIN:VCALENDAR
VERSION:2.0
PRODID:-//ExpressionEngine Easy iCalendar plugin//NONSGML v2.0.0//EN
X-WR-TIMEZONE:America/Chicago
X-WR-CALNAME:Upcoming Auctions
BEGIN:VEVENT
UID:100013
DTSTAMP:20230518T111800
DTSTART:20230518T111800
DTEND:20230525T183000
SUMMARY:Model Trains\, Train Sets & More
LOCATION:174 Camelot Loop\, Scott City\, MO 63780\, US
DESCRIPTION:Immerse in the Wonders of Model Trains and More: Auction Pre
 view on May 25!
URL:https://ollisauction.bwpreview.com/auctions/detail/bw100013
SEQUENCE:1
END:VEVENT
END:VCALENDAR