BEGIN:VCALENDAR
VERSION:2.0
PRODID:-//ExpressionEngine Easy iCalendar plugin//NONSGML v2.0.0//EN
X-WR-TIMEZONE:America/Chicago
X-WR-CALNAME:Upcoming Auctions
BEGIN:VEVENT
UID:101511
DTSTAMP:20230523T163100
DTSTART:20230523T163100
DTEND:20230627T143000
SUMMARY:2-Bed\, 1-Bath Fixer Upper Anna\, IL
LOCATION:602 E. High St.\, Anna\, IL 62906\, US
DESCRIPTION:Opportunity for Transformation: Bid on a Fixer-Upper with Ch
 aracter Online Only Auction
URL:https://ollisauction.bwpreview.com/auctions/detail/bw101511
SEQUENCE:1
END:VEVENT
END:VCALENDAR