BEGIN:VCALENDAR
VERSION:2.0
PRODID:-//ExpressionEngine Easy iCalendar plugin//NONSGML v2.0.0//EN
X-WR-TIMEZONE:America/Chicago
X-WR-CALNAME:Upcoming Auctions
BEGIN:VEVENT
UID:103784
DTSTAMP:20230808T134400
DTSTART:20230808T134400
DTEND:20230815T110000
SUMMARY:Live & Online Firearms Auction
LOCATION:16972 State Hwy 149\, West Frankfort\, IL 62896\, US
DESCRIPTION:West Frankfort\, IL 
URL:https://ollisauction.bwpreview.com/auctions/detail/bw103784
SEQUENCE:1
END:VEVENT
END:VCALENDAR