BEGIN:VCALENDAR
VERSION:2.0
PRODID:-//ExpressionEngine Easy iCalendar plugin//NONSGML v2.0.0//EN
X-WR-TIMEZONE:America/Chicago
X-WR-CALNAME:Upcoming Auctions
BEGIN:VEVENT
UID:103791
DTSTAMP:20230831T141800
DTSTART:20230831T141800
DTEND:20230907T183000
SUMMARY:Antiques\, Collectibles\, Quilters Dreams & More
LOCATION:125 Ashlar St.\, Jonesboro\, IL 62952\, US
DESCRIPTION:Online Only Auction Jonesboro\, IL 
URL:https://ollisauction.bwpreview.com/auctions/detail/bw103791
SEQUENCE:1
END:VEVENT
END:VCALENDAR