BEGIN:VCALENDAR
VERSION:2.0
PRODID:-//ExpressionEngine Easy iCalendar plugin//NONSGML v2.0.0//EN
X-WR-TIMEZONE:America/Chicago
X-WR-CALNAME:Upcoming Auctions
BEGIN:VEVENT
UID:105253
DTSTAMP:20230801T112000
DTSTART:20230801T112000
DTEND:20230808T183000
SUMMARY:Hodge Podge Online Only Auction
LOCATION:100 Lick Creek Road\, Anna\, IL 62906\, US
DESCRIPTION:Anna\, IL
URL:https://ollisauction.bwpreview.com/auctions/detail/bw105253
SEQUENCE:1
END:VEVENT
END:VCALENDAR