BEGIN:VCALENDAR
VERSION:2.0
PRODID:-//ExpressionEngine Easy iCalendar plugin//NONSGML v2.0.0//EN
X-WR-TIMEZONE:America/Chicago
X-WR-CALNAME:Upcoming Auctions
BEGIN:VEVENT
UID:152209
DTSTAMP:20251211T160000
DTSTART:20251211T160000
DTEND:20251218T183000
SUMMARY:Farm Equipment\, Tools\, Antiques & More
LOCATION:13536 Alleghany Road\, Thompsonville\, IL 62890\, US
DESCRIPTION:LOCATION: 13536 Alleghany Road\, Thompsonville\, IL 62890 PREV
 IEW: December 18\, 2025 Thursday 2:00 pm to 5:00 pm Begins t
 o End: December 18\, 2025 Thursday at 6:30 pm PICK UP: Decem
 ber 19\, 2025 Friday from 11:00 am to 5:30 pm 15% Buyers Prem
 ium  Seller(s): Estate of Florence German
URL:https://ollisauction.bwpreview.com/auctions/detail/bw152209
SEQUENCE:1
END:VEVENT
END:VCALENDAR