BEGIN:VCALENDAR
VERSION:2.0
PRODID:-//ExpressionEngine Easy iCalendar plugin//NONSGML v2.0.0//EN
X-WR-TIMEZONE:America/Chicago
X-WR-CALNAME:Upcoming Auctions
BEGIN:VEVENT
UID:152821
DTSTAMP:20251216T030000
DTSTART:20251216T030000
DTEND:20251223T140000
SUMMARY:251223 Re-Auction Grant and Ross
LOCATION:{location}
DESCRIPTION:Lot 1: TBD Mt. Pisgah Road\, Buncombe\, IL Approximately 40 ac
 res with a 45' x 72' pole barn\, traditional 40' x 50' barn\, 
 fencing\, and two ponds. Open pastureland suited for livestoc
 k or rural recreation. Lot 2: 650 Old Route 146 Loop\, Vienna
 \, IL 62995 Approximately 9.118 acres with an 1880 farmhouse 
 offering 3 bedrooms\, 1 bath\, and 1\,629 square feet. The prop
 erty features a mix of open land and wooded areas\, ideal for
  horses\, hunting\, hobby farming\, or a renovation project.
URL:https://ollisauction.bwpreview.com/auctions/detail/bw152821
SEQUENCE:1
END:VEVENT
END:VCALENDAR