BEGIN:VCALENDAR
VERSION:2.0
PRODID:-//ExpressionEngine Easy iCalendar plugin//NONSGML v2.0.0//EN
X-WR-TIMEZONE:America/Chicago
X-WR-CALNAME:Upcoming Auctions
BEGIN:VEVENT
UID:155019
DTSTAMP:20260213T100000
DTSTART:20260213T100000
DTEND:20260213T100000
SUMMARY:Home\, Pole Barn\, and Approx. 100 +/- Acres
LOCATION:1240 Hummingbird Road\, Buncombe\, IL 62912\, US
DESCRIPTION:Tucked into the countryside of Union County\, this 100.932± 
 acre property offers the kind of space where you can slow do
 wn\, spread out\, and make the land your own. Picture quiet mo
 rnings at the house\, evenings in the barn or on the porch\, a
 nd seasons spent walking timber\, watching wildlife\, or manag
 ing the land at your pace. The mix of woods\, limited open gr
 ound\, pond\, and rolling terrain creates natural privacy and 
 excellent habitat\, making it equally appealing as a rural re
 sidence\, hunting property\, or recreational retreat. Offered 
 in three tracts or as a whole\, the property gives buyers the
  flexibility to shape ownership around how they plan to live
 \, work\, or enjoy the outdoors.
URL:https://ollisauction.bwpreview.com/auctions/detail/bw155019
SEQUENCE:1
END:VEVENT
END:VCALENDAR