BEGIN:VCALENDAR
VERSION:2.0
PRODID:-//ExpressionEngine Easy iCalendar plugin//NONSGML v2.0.1//EN
X-WR-TIMEZONE:America/Chicago
X-WR-CALNAME:Upcoming Auctions
BEGIN:VEVENT
UID:158140
DTSTAMP:20260312T140000
DTSTART:20260312T140000
DTEND:20260409T140000
SUMMARY:Commercial Real Estate
LOCATION:308 S Main St.\, Anna\, IL 62906\, US
DESCRIPTION:How Will You Add to the History of This Building? Online Auc
 tion 308 S. Main Street\, Anna\, Illinois 62906 Begins to End:
  April 9\, 2026 • Thursday • 2:00 PM Call us today to sch
 edule a showing  1-800-272-9791
URL:https://ollisauction.bwpreview.com/auctions/detail/bw158140
SEQUENCE:1
END:VEVENT
END:VCALENDAR