BEGIN:VCALENDAR
VERSION:2.0
PRODID:-//ExpressionEngine Easy iCalendar plugin//NONSGML v2.0.1//EN
X-WR-TIMEZONE:America/Chicago
X-WR-CALNAME:Upcoming Auctions
BEGIN:VEVENT
UID:159166
DTSTAMP:20260323T120000
DTSTART:20260323T120000
DTEND:20260401T142600
SUMMARY:Online Farm Equipment Auction
LOCATION:{location}
DESCRIPTION:Two-lot online auction featuring a 2009 John Deere 1790 24-r
 ow planter and a 2004 John Deere 1290 12-row corn header. Bi
 dding closes Wednesday\, April 1\, 2026 beginning at 12:32 PM 
 CDT.
URL:https://ollisauction.bwpreview.com/auctions/detail/bw159166
SEQUENCE:1
END:VEVENT
END:VCALENDAR