BEGIN:VCALENDAR
VERSION:2.0
PRODID:-//ExpressionEngine Easy iCalendar plugin//NONSGML v2.0.1//EN
X-WR-TIMEZONE:America/Chicago
X-WR-CALNAME:Upcoming Auctions
BEGIN:VEVENT
UID:160762
DTSTAMP:20260427T120000
DTSTART:20260427T120000
DTEND:20260507T183000
SUMMARY:Firearms\, Shed\, Tools\, Household And More
LOCATION:305 Campers Lane\, Creal Springs\, IL 62922\, US
DESCRIPTION:Firearms\, Shed\, Tools\, Household And More  Online Only Auct
 ion  Location 305 Campers Lane\, Creal Springs\, IL 62922 Au
 ction Begins To End May 7th 2026 at 6:30pm  Preview May 7th
  2026 2pm to 5pm Pick Up May 8th 2026 11am to 5:30pm 15% Buy
 ers Premium  Seller(s): Galen and Donna Thomas    
URL:https://ollisauction.bwpreview.com/auctions/detail/bw160762
SEQUENCE:1
END:VEVENT
END:VCALENDAR