BEGIN:VCALENDAR
VERSION:2.0
PRODID:-//ExpressionEngine Easy iCalendar plugin//NONSGML v2.0.0//EN
X-WR-TIMEZONE:America/Chicago
X-WR-CALNAME:Upcoming Auctions
BEGIN:VEVENT
UID:77016
DTSTAMP:20220302T132800
DTSTART:20220302T132800
DTEND:20220330T183000
SUMMARY:Two Bedroom\, 1 ½ Bathroom Home
LOCATION:204 Williams St.\, Anna\, IL 62906\, US
DESCRIPTION:Two Bedroom\, 1 ½ Bathroom Home Online Only Real Estate Auct
 ion 204 Williams St. Anna\, IL 62906 Begins to End Wednesday 
 6:30 pm March 30\, 2022 Call Auction Company Today for a Show
 ing
URL:https://ollisauction.bwpreview.com/auctions/detail/bw77016
SEQUENCE:1
END:VEVENT
END:VCALENDAR