BEGIN:VCALENDAR
VERSION:2.0
PRODID:-//ExpressionEngine Easy iCalendar plugin//NONSGML v2.0.0//EN
X-WR-TIMEZONE:America/Chicago
X-WR-CALNAME:Upcoming Auctions
BEGIN:VEVENT
UID:77775
DTSTAMP:20220324T170000
DTSTART:20220324T170000
DTEND:20220331T105600
SUMMARY:2016 John Deere 5055E
LOCATION:5380 St. Rt. 146 E.\, Anna\, IL 62912\, US
DESCRIPTION:2016 John Deere 5055E
URL:https://ollisauction.bwpreview.com/auctions/detail/bw77775
SEQUENCE:1
END:VEVENT
END:VCALENDAR