BEGIN:VCALENDAR
VERSION:2.0
PRODID:-//ExpressionEngine Easy iCalendar plugin//NONSGML v2.0.0//EN
X-WR-TIMEZONE:America/Chicago
X-WR-CALNAME:Upcoming Auctions
BEGIN:VEVENT
UID:78801
DTSTAMP:20220401T153500
DTSTART:20220401T153500
DTEND:20220428T183000
SUMMARY:3 Bedroom 2 Bathroom Home Online Only Auction
LOCATION:601 S Locust St.\, West Frankfort\, IL 62896\, US
DESCRIPTION:3 Bedroom 2 Bathroom Home
URL:https://ollisauction.bwpreview.com/auctions/detail/bw78801
SEQUENCE:1
END:VEVENT
END:VCALENDAR