BEGIN:VCALENDAR
VERSION:2.0
PRODID:-//ExpressionEngine Easy iCalendar plugin//NONSGML v2.0.0//EN
X-WR-TIMEZONE:America/Chicago
X-WR-CALNAME:Upcoming Auctions
BEGIN:VEVENT
UID:79261
DTSTAMP:20220428T170000
DTSTART:20220428T170000
DTEND:20220504T134600
SUMMARY:2005 Spra Coupe 4650
LOCATION:1398 Vine Street\, Pulaski\, IL 62976\, US
DESCRIPTION:2005 Spra Coupe 4650
URL:https://ollisauction.bwpreview.com/auctions/detail/bw79261
SEQUENCE:1
END:VEVENT
END:VCALENDAR