BEGIN:VCALENDAR
VERSION:2.0
PRODID:-//ExpressionEngine Easy iCalendar plugin//NONSGML v2.0.0//EN
X-WR-TIMEZONE:America/Chicago
X-WR-CALNAME:Upcoming Auctions
BEGIN:VEVENT
UID:79306
DTSTAMP:20220428T170000
DTSTART:20220428T170000
DTEND:20220504T161000
SUMMARY:2008 John Deere 8330 Tractor
LOCATION:6730 State Forest Rd. \, Wolf Lake \, IL 62998\, US
DESCRIPTION:2008 John Deere 8330 Tractor
URL:https://ollisauction.bwpreview.com/auctions/detail/bw79306
SEQUENCE:1
END:VEVENT
END:VCALENDAR