BEGIN:VCALENDAR
VERSION:2.0
PRODID:-//ExpressionEngine Easy iCalendar plugin//NONSGML v2.0.0//EN
X-WR-TIMEZONE:America/Chicago
X-WR-CALNAME:Upcoming Auctions
BEGIN:VEVENT
UID:79309
DTSTAMP:20220428T170000
DTSTART:20220428T170000
DTEND:20220504T114500
SUMMARY:2014 John Deere 1720  Stack Fold Planter
LOCATION:6730 State Forest Rd. \, Wolf Lake \, IL 62998\, US
DESCRIPTION:2014 John Deere 1720  Stack Fold Planter
URL:https://ollisauction.bwpreview.com/auctions/detail/bw79309
SEQUENCE:1
END:VEVENT
END:VCALENDAR