BEGIN:VCALENDAR
VERSION:2.0
PRODID:-//ExpressionEngine Easy iCalendar plugin//NONSGML v2.0.0//EN
X-WR-TIMEZONE:America/Chicago
X-WR-CALNAME:Upcoming Auctions
BEGIN:VEVENT
UID:79687
DTSTAMP:20220428T170000
DTSTART:20220428T170000
DTEND:20220504T115500
SUMMARY:John Deere 7240 MaxEmerge 2 Vacumeter Planter
LOCATION:6730 State Forest Rd. \, Wolf Lake\, IL 62998\, US
DESCRIPTION:John Deere 7240
URL:https://ollisauction.bwpreview.com/auctions/detail/bw79687
SEQUENCE:1
END:VEVENT
END:VCALENDAR