BEGIN:VCALENDAR
VERSION:2.0
PRODID:-//ExpressionEngine Easy iCalendar plugin//NONSGML v2.0.0//EN
X-WR-TIMEZONE:America/Chicago
X-WR-CALNAME:Upcoming Auctions
BEGIN:VEVENT
UID:79965
DTSTAMP:20220504T170000
DTSTART:20220504T170000
DTEND:20220511T172900
SUMMARY:Combine Transition Frame
LOCATION:6730 State Forest Rd. \, Wolf Lake\, IL 62998\, US
DESCRIPTION:Combine Transition Frame 
URL:https://ollisauction.bwpreview.com/auctions/detail/bw79965
SEQUENCE:1
END:VEVENT
END:VCALENDAR