BEGIN:VCALENDAR
VERSION:2.0
PRODID:-//ExpressionEngine Easy iCalendar plugin//NONSGML v2.0.0//EN
X-WR-TIMEZONE:America/Chicago
X-WR-CALNAME:Upcoming Auctions
BEGIN:VEVENT
UID:80008
DTSTAMP:20220504T170000
DTSTART:20220504T170000
DTEND:20220511T153800
SUMMARY:Saddle Tanks & Front Tank
LOCATION:6730 State Forest Rd. \, Wolf Lake\, IL 62998\, US
DESCRIPTION:Saddle Tanks & Front Tank
URL:https://ollisauction.bwpreview.com/auctions/detail/bw80008
SEQUENCE:1
END:VEVENT
END:VCALENDAR