BEGIN:VCALENDAR
VERSION:2.0
PRODID:-//ExpressionEngine Easy iCalendar plugin//NONSGML v2.0.0//EN
X-WR-TIMEZONE:America/Chicago
X-WR-CALNAME:Upcoming Auctions
BEGIN:VEVENT
UID:80736
DTSTAMP:20220505T071700
DTSTART:20220505T071700
DTEND:20220512T183000
SUMMARY:Collectibles\, Household\, Antiques & More   
LOCATION:212 Apple Lane\, Anna\, IL 62906\, US
DESCRIPTION:Collectibles\, Household\, Antiques & More   
URL:https://ollisauction.bwpreview.com/auctions/detail/bw80736
SEQUENCE:1
END:VEVENT
END:VCALENDAR