BEGIN:VCALENDAR
VERSION:2.0
PRODID:-//ExpressionEngine Easy iCalendar plugin//NONSGML v2.0.0//EN
X-WR-TIMEZONE:America/Chicago
X-WR-CALNAME:Upcoming Auctions
BEGIN:VEVENT
UID:82633
DTSTAMP:20220608T162600
DTSTART:20220608T162600
DTEND:20220630T183000
SUMMARY:Ranch Style 3 Bedroom\, 2 Bath Home
LOCATION:401 Springfield Ave.\, Anna\, IL 62906\, US
DESCRIPTION:Ranch Style 3 Bedroom\, 2 Bath Home
URL:https://ollisauction.bwpreview.com/auctions/detail/bw82633
SEQUENCE:1
END:VEVENT
END:VCALENDAR