BEGIN:VCALENDAR
VERSION:2.0
PRODID:-//ExpressionEngine Easy iCalendar plugin//NONSGML v2.0.0//EN
X-WR-TIMEZONE:America/Chicago
X-WR-CALNAME:Upcoming Auctions
BEGIN:VEVENT
UID:83527
DTSTAMP:20220623T154700
DTSTART:20220623T154700
DTEND:20220630T183000
SUMMARY:Furniture\, Household\, Collectibles & More
LOCATION:401 Springfield Ave.\, Anna\, IL 62906\, US
DESCRIPTION:Furniture\, Household\, Collectibles & More    
URL:https://ollisauction.bwpreview.com/auctions/detail/bw83527
SEQUENCE:1
END:VEVENT
END:VCALENDAR