BEGIN:VCALENDAR
VERSION:2.0
PRODID:-//ExpressionEngine Easy iCalendar plugin//NONSGML v2.0.0//EN
X-WR-TIMEZONE:America/Chicago
X-WR-CALNAME:Upcoming Auctions
BEGIN:VEVENT
UID:84680
DTSTAMP:20220727T100000
DTSTART:20220727T100000
DTEND:20220803T124500
SUMMARY:2011 Kenworth T660
LOCATION:{location}
DESCRIPTION:2011 KENWORTH T660
URL:https://ollisauction.bwpreview.com/auctions/detail/bw84680
SEQUENCE:1
END:VEVENT
END:VCALENDAR