BEGIN:VCALENDAR
VERSION:2.0
PRODID:-//ExpressionEngine Easy iCalendar plugin//NONSGML v2.0.0//EN
X-WR-TIMEZONE:America/Chicago
X-WR-CALNAME:Upcoming Auctions
BEGIN:VEVENT
UID:84682
DTSTAMP:20220727T100000
DTSTART:20220727T100000
DTEND:20220803T125800
SUMMARY:2006 Peterbilt 385
LOCATION:{location}
DESCRIPTION:2006 Peterbilt 385
URL:https://ollisauction.bwpreview.com/auctions/detail/bw84682
SEQUENCE:1
END:VEVENT
END:VCALENDAR