BEGIN:VCALENDAR
VERSION:2.0
PRODID:-//ExpressionEngine Easy iCalendar plugin//NONSGML v2.0.0//EN
X-WR-TIMEZONE:America/Chicago
X-WR-CALNAME:Upcoming Auctions
BEGIN:VEVENT
UID:85684
DTSTAMP:20220802T133400
DTSTART:20220802T133400
DTEND:20220809T183000
SUMMARY:Furniture\, Antiques\, Household & More
LOCATION:100 Lick Creek Rd. \, Anna\, IL 62906\, US
DESCRIPTION:Furniture\, Antiques\, Household & More  
URL:https://ollisauction.bwpreview.com/auctions/detail/bw85684
SEQUENCE:1
END:VEVENT
END:VCALENDAR