BEGIN:VCALENDAR
VERSION:2.0
PRODID:-//ExpressionEngine Easy iCalendar plugin//NONSGML v2.0.0//EN
X-WR-TIMEZONE:America/Chicago
X-WR-CALNAME:Upcoming Auctions
BEGIN:VEVENT
UID:85786
DTSTAMP:20220803T163300
DTSTART:20220803T163300
DTEND:20220810T183000
SUMMARY:Knives\, Indian Artifacts\, & Firearms
LOCATION:100 Lick Creek Road\, Anna\, IL 62906\, US
DESCRIPTION:Knives\, Indian Artifacts\, & Firearms 
URL:https://ollisauction.bwpreview.com/auctions/detail/bw85786
SEQUENCE:1
END:VEVENT
END:VCALENDAR