BEGIN:VCALENDAR
VERSION:2.0
PRODID:-//ExpressionEngine Easy iCalendar plugin//NONSGML v2.0.0//EN
X-WR-TIMEZONE:America/Chicago
X-WR-CALNAME:Upcoming Auctions
BEGIN:VEVENT
UID:85828
DTSTAMP:20220804T104200
DTSTART:20220804T104200
DTEND:20220811T183000
SUMMARY:2013 Ford Edge\, Furniture\, Collectibles & More
LOCATION:14711 Sulphur Springs Rd. \, Creal Springs\, IL 62922\, US
DESCRIPTION:2013 Ford Edge\, Furniture\, Collectibles & More
URL:https://ollisauction.bwpreview.com/auctions/detail/bw85828
SEQUENCE:1
END:VEVENT
END:VCALENDAR