BEGIN:VCALENDAR
VERSION:2.0
PRODID:-//ExpressionEngine Easy iCalendar plugin//NONSGML v2.0.0//EN
X-WR-TIMEZONE:America/Chicago
X-WR-CALNAME:Upcoming Auctions
BEGIN:VEVENT
UID:88209
DTSTAMP:20220901T153500
DTSTART:20220901T153500
DTEND:20220927T183000
SUMMARY:2-Bedroom Home on Approx. .96
LOCATION:410 North Green Street\, Anna\, IL 62906\, US
DESCRIPTION:2-Bedroom Home on Approx. .96 Online Only Auction Â  410 Nor
 th Green Street\, Anna\, IL 62906 Â  Begins to End September 2
 7\, 2022 Tuesday 6:30 pm Â  Call us today to schedule a showi
 ng. Â  2-Bedroom home in need of a little help.Â  The bedroo
 ms have wood floors.Â  Living room and family room have carp
 et over wood floors.Â  Condition under the carpet is not kno
 wn.Â  Attic could be used as storage or converted to a bedro
 om or playroom.Â  On the property is an old mobile home that
  could be hauled off for scrap as it is aluminum and does ha
 ve copper piping.Â  Made in Cairo\, IL Sears & Roebuck Home.Â
   You could also just move in\, itâ€™s ready for a new family
 . Â  Seller: The Estate of Robert J. Kohler Â  Joe Ollis Auc
 tion Service\, LLC IL. Lic # 444.000380 Information Herein Be
 lieved to Be Accurate but Not Warranted
URL:https://ollisauction.bwpreview.com/auctions/detail/bw88209
SEQUENCE:1
END:VEVENT
END:VCALENDAR