BEGIN:VCALENDAR
VERSION:2.0
PRODID:-//ExpressionEngine Easy iCalendar plugin//NONSGML v2.0.0//EN
X-WR-TIMEZONE:America/Chicago
X-WR-CALNAME:Upcoming Auctions
BEGIN:VEVENT
UID:88344
DTSTAMP:20220906T130000
DTSTART:20220906T130000
DTEND:20220913T184500
SUMMARY:Selling By the Room
LOCATION:15 Lick Creek Water Road\, Buncombe (Lick Creek)\, IL 62912\, U
 S
DESCRIPTION:Contents & Scrap Online Only A Lot of Good Opportunities   
 15 Lick Creek Water Road\, Buncombe\, IL 62912 37.521874235233
 84\, -89.07638521811649   Begins to End September 13\, 2022 T
 uesday 6:45 pm
URL:https://ollisauction.bwpreview.com/auctions/detail/bw88344
SEQUENCE:1
END:VEVENT
END:VCALENDAR