BEGIN:VCALENDAR
VERSION:2.0
PRODID:-//ExpressionEngine Easy iCalendar plugin//NONSGML v2.0.0//EN
X-WR-TIMEZONE:America/Chicago
X-WR-CALNAME:Upcoming Auctions
BEGIN:VEVENT
UID:90833
DTSTAMP:20221018T092300
DTSTART:20221018T092300
DTEND:20221025T183000
SUMMARY:Pyrex\, Fenton\, Collectibles\, & More
LOCATION:100 Lick Creek Road\, Anna\, IL 62906\, US
DESCRIPTION:Pyrex\, Fenton\, Collectibles\, & More Online Only Auction
URL:https://ollisauction.bwpreview.com/auctions/detail/bw90833
SEQUENCE:1
END:VEVENT
END:VCALENDAR