BEGIN:VCALENDAR
VERSION:2.0
PRODID:-//ExpressionEngine Easy iCalendar plugin//NONSGML v2.0.0//EN
X-WR-TIMEZONE:America/Chicago
X-WR-CALNAME:Upcoming Auctions
BEGIN:VEVENT
UID:91023
DTSTAMP:20221103T140000
DTSTART:20221103T140000
DTEND:20221209T140000
SUMMARY:Needs Work 2-Bedroom Home Anna\, IL
LOCATION:134 Warren Street\, Anna\, IL 62906\, US
DESCRIPTION:2-Bedroom Home Online Only Auction 134 Warren St.\, Anna\, IL 
 62906
URL:https://ollisauction.bwpreview.com/auctions/detail/bw91023
SEQUENCE:1
END:VEVENT
END:VCALENDAR