BEGIN:VCALENDAR
VERSION:2.0
PRODID:-//ExpressionEngine Easy iCalendar plugin//NONSGML v2.0.0//EN
X-WR-TIMEZONE:America/Chicago
X-WR-CALNAME:Upcoming Auctions
BEGIN:VEVENT
UID:91383
DTSTAMP:20221027T154700
DTSTART:20221027T154700
DTEND:20221103T183000
SUMMARY:Household\, Collectibles\, Hunting & More
LOCATION:100 Lick Creek Road\, Anna\, IL 62906\, US
DESCRIPTION:Household\, Collectibles\, Hunting & More Online Only Auction 
  
URL:https://ollisauction.bwpreview.com/auctions/detail/bw91383
SEQUENCE:1
END:VEVENT
END:VCALENDAR