BEGIN:VCALENDAR
VERSION:2.0
PRODID:-//ExpressionEngine Easy iCalendar plugin//NONSGML v2.0.0//EN
X-WR-TIMEZONE:America/Chicago
X-WR-CALNAME:Upcoming Auctions
BEGIN:VEVENT
UID:92733
DTSTAMP:20221123T162800
DTSTART:20221123T162800
DTEND:20221222T183000
SUMMARY:Restaurant and Almost Everything in It
LOCATION:119 State Highway 169\, Karnak\, IL 62956\, US
DESCRIPTION:Fully Functional Restaurant Online Only Auction 119 State Hw
 y 169\, Karnak\, IL 62956 Begins to End December 22\, 2022 Thur
 sday 6:30 pm Call us today to schedule a showing
URL:https://ollisauction.bwpreview.com/auctions/detail/bw92733
SEQUENCE:1
END:VEVENT
END:VCALENDAR