BEGIN:VCALENDAR
VERSION:2.0
PRODID:-//ExpressionEngine Easy iCalendar plugin//NONSGML v2.0.0//EN
X-WR-TIMEZONE:America/Chicago
X-WR-CALNAME:Upcoming Auctions
BEGIN:VEVENT
UID:93534
DTSTAMP:20221223T170000
DTSTART:20221223T170000
DTEND:20221229T130800
SUMMARY:DMI Anhydrous Applicator Model 3250
LOCATION:6730 State Forest Rd. \, Wolf Lake\, IL 62998\, US
DESCRIPTION:DMI Anhydrous Applicator Model 3250 Online Only Auction
URL:https://ollisauction.bwpreview.com/auctions/detail/bw93534
SEQUENCE:1
END:VEVENT
END:VCALENDAR