BEGIN:VCALENDAR
VERSION:2.0
PRODID:-//ExpressionEngine Easy iCalendar plugin//NONSGML v2.0.0//EN
X-WR-TIMEZONE:America/Chicago
X-WR-CALNAME:Upcoming Auctions
BEGIN:VEVENT
UID:93572
DTSTAMP:20221213T170000
DTSTART:20221213T170000
DTEND:20221220T183000
SUMMARY:4-Wheeler\, Collectibles\, Furniture\, & Way More
LOCATION:100 Lick Creek Road\, Anna\, IL 62906\, US
DESCRIPTION:2015 Can-Am Outlander\, Furniture\, Antiques\, Collectibles & M
 ore  Online Only Auction 100 Lick Creek Rd. Anna\, IL 62906 
 Begins to End December 20\, 2022 Tuesday 6:30 pm
URL:https://ollisauction.bwpreview.com/auctions/detail/bw93572
SEQUENCE:1
END:VEVENT
END:VCALENDAR