BEGIN:VCALENDAR
VERSION:2.0
PRODID:-//ExpressionEngine Easy iCalendar plugin//NONSGML v2.0.0//EN
X-WR-TIMEZONE:America/Chicago
X-WR-CALNAME:Upcoming Auctions
BEGIN:VEVENT
UID:93946
DTSTAMP:20221222T131200
DTSTART:20221222T131200
DTEND:20221229T183000
SUMMARY:Car Lifts\, Box Truck\, Mercedes Car\, Tools & More 
LOCATION:1500 Grace St.\, Murphysboro\, IL 62966\, US
DESCRIPTION:Car Lifts\, Box Truck\, Mercedes Car\, Tools & More  Online On
 ly Auction
URL:https://ollisauction.bwpreview.com/auctions/detail/bw93946
SEQUENCE:1
END:VEVENT
END:VCALENDAR