BEGIN:VCALENDAR
VERSION:2.0
PRODID:-//ExpressionEngine Easy iCalendar plugin//NONSGML v2.0.0//EN
X-WR-TIMEZONE:America/Chicago
X-WR-CALNAME:Upcoming Auctions
BEGIN:VEVENT
UID:94494
DTSTAMP:20230106T183000
DTSTART:20230106T183000
DTEND:20230202T140000
SUMMARY:Real Estate Marion\, IL
LOCATION:101 W Patrick St.\, Marion\, IL 62959\, US
DESCRIPTION:2-Bedroom Home Online Only Auction
URL:https://ollisauction.bwpreview.com/auctions/detail/bw94494
SEQUENCE:1
END:VEVENT
END:VCALENDAR