BEGIN:VCALENDAR
VERSION:2.0
PRODID:-//ExpressionEngine Easy iCalendar plugin//NONSGML v2.0.0//EN
X-WR-TIMEZONE:America/Chicago
X-WR-CALNAME:Upcoming Auctions
BEGIN:VEVENT
UID:97459
DTSTAMP:20230323T170000
DTSTART:20230323T170000
DTEND:20230329T100200
SUMMARY:1984 Belshe 20’ Pintle Hitch Heavy Duty Trailer
LOCATION:2220 Airport Rd.\, Jonesboro\, IL 62952\, US
DESCRIPTION:1984 Belshe 20’ Pintle Hitch Heavy Duty Trailer
URL:https://ollisauction.bwpreview.com/auctions/detail/bw97459
SEQUENCE:1
END:VEVENT
END:VCALENDAR