BEGIN:VCALENDAR
VERSION:2.0
PRODID:-//ExpressionEngine Easy iCalendar plugin//NONSGML v2.0.0//EN
X-WR-TIMEZONE:America/Chicago
X-WR-CALNAME:Upcoming Auctions
BEGIN:VEVENT
UID:98753
DTSTAMP:20230404T093000
DTSTART:20230404T093000
DTEND:20230420T183000
SUMMARY:Equipment\, Tools\, & More Consignment
LOCATION:100 Lick Creek Road\, Anna\, IL 62906\, US
DESCRIPTION:Now accepting equipment consignments for an April 20\, 2023 
 Online Only Auction! Give us a call at (618)833-2227 or emai
 l us at ollis@ollisauction.com
URL:https://ollisauction.bwpreview.com/auctions/detail/bw98753
SEQUENCE:1
END:VEVENT
END:VCALENDAR